BEGIN:VCALENDAR
VERSION:2.0
PRODID:-//KANAL - ECPv6.13.2.1//NONSGML v1.0//EN
CALSCALE:GREGORIAN
METHOD:PUBLISH
X-WR-CALNAME:KANAL
X-ORIGINAL-URL:https://bandkanal.de
X-WR-CALDESC:Veranstaltungen für KANAL
REFRESH-INTERVAL;VALUE=DURATION:PT1H
X-Robots-Tag:noindex
X-PUBLISHED-TTL:PT1H
BEGIN:VTIMEZONE
TZID:UTC
BEGIN:STANDARD
TZOFFSETFROM:+0000
TZOFFSETTO:+0000
TZNAME:UTC
DTSTART:20260101T000000
END:STANDARD
END:VTIMEZONE
BEGIN:VEVENT
DTSTART;TZID=UTC:20260816T153000
DTEND;TZID=UTC:20260816T170000
DTSTAMP:20260420T154612
CREATED:20260225T211818Z
LAST-MODIFIED:20260225T211818Z
UID:2289-1786894200-1786899600@bandkanal.de
SUMMARY:KANAL @ Kurhausgarten\, Warnemünde
DESCRIPTION:KAИAL is a post-avantgard rock band from Berlin which will disappear in 2030.Im Oktober 2024 warfen die Wendekids mit „NOSTALGIA“ ihre vierte und beste Platte auf den Markt. Der Opener „Feierabendstadt“ wurde prompt in die Shortlist der Listen-to-Berlin-Awards aufgenommen und das Frontstage Magazin befindet: „KANALs viertes Studioalbum ist ein musikalisches Statement. […] Das geht weit über die meisten Hörgewohnheiten hinaus.“ Kompromisslos brachial lärmt es in Songs wie „Platons Höhle“ und „Früher oder später“ bis das Quartett die Scherben wieder einsammelt und in schönster Melancholie wieder zusammenbrennt.Entstanden in der Blütephase der Cottbuser Musikszene und in Berlins Garagen zu neuem Leben entfacht\, steht das Quartett für bildgewaltige\, deutschsprachige Bandmusik.Bei KAИAL trifft Phantasie auf Realität\, Auskomponiertes auf Improvisiertes\, Singer Songwriter-Ballade auf Full Band-Krachshow. Einstürzende Neubauten auf Arcade Fire\, Dead Can Dance auf Wolf Biermann.Aber KAИAL lösen sich vom nostalgischen Klimbim ins offene Ungewisse. Zwischen Asia Döner Senftenberg und Globe Theatre singen sie utopische Gesellschaftshymnen.\n„KANALs viertes Studioalbum NOSTALGIA ist ein musikalisches Statement.“ Frontstage Magazine„Brachialer Lärm und Melancholie“ Schall Magazin.\n\nwww.bandkanal.dehttps://kanal.bandcamp.com/https://www.facebook.com/bandkanalhttps://www.instagram.com/kanal_offiziel
URL:https://bandkanal.de/konzert/kanal-kurhausgarten-warnemuende/
LOCATION:Kurhausgarten Warnemünde\, Seestr. 18\, Rostock\, Mecklenburg Vorpommern\, 18119\, Germany
ATTACH;FMTTYPE=image/jpeg:https://bandkanal.de/wp-content/uploads/2025/11/KANAL-SAeAeLCHEN-_Ebene-1-scaled.jpg
END:VEVENT
END:VCALENDAR